BEGIN:VCALENDAR
VERSION:2.0
PRODID:-//Squarespace Inc/Squarespace 6//v6//EN
BEGIN:VEVENT
UID:5521e738e4b0566549d1ac44@squarespace.com
DTSTAMP:20150719T013302Z
DTSTART:20151015T100000Z
DTEND:20151016T053000Z
SUMMARY:Greater Performance & Wellbeing Through Mindfulness at Work 
GEO:-37.873295;145.042948
LOCATION:The Gables\, 15 Finch St\, Malvern East\, VIC\, 3145\, Australia
END:VEVENT
END:VCALENDAR
