BEGIN:VCALENDAR
VERSION:2.0
PRODID:-//Squarespace Inc/Squarespace 6//v6//EN
BEGIN:VEVENT
UID:551e6ea6e4b0751e1a30d661@squarespace.com
DTSTAMP:20150726T114217Z
DTSTART:20150807T093000Z
DTEND:20150807T113000Z
SUMMARY:Film Night & Fundraiser  
GEO:-38.219983;145.038946
LOCATION:Beach Lane\, 642 Nepean Hwy\, Carrum\, Victoria\, 3197\, Australia
END:VEVENT
END:VCALENDAR
