BEGIN:VCALENDAR
VERSION:2.0
PRODID:-//Squarespace Inc/Squarespace 6//v6//EN
BEGIN:VEVENT
UID:55777d86e4b07cb18d9e3ad9@squarespace.com
DTSTAMP:20150713T072329Z
DTSTART:20150814T003000Z
DTEND:20150814T060000Z
SUMMARY:Emotional wellbeing & resilience training for people living with ca
 ncer
GEO:-38.076238;145.122421
LOCATION:Beach Lane\, 642 Nepean Hwy\, Carrum\, Victoria\, 3197\, Australia
END:VEVENT
END:VCALENDAR
