BEGIN:VCALENDAR
VERSION:2.0
PRODID:-//Squarespace Inc/Squarespace 6//v6//EN
BEGIN:VEVENT
UID:557783e8e4b0cfccfc6ce5d0@squarespace.com
DTSTAMP:20150713T132351Z
DTSTART:20150816T003000Z
DTEND:20150816T053000Z
SUMMARY:Introduction to Mindfulness - One day workshop 
GEO:-38.076238;145.122421
LOCATION:Beach Lane\, 642 Nepean Hwy\,\, Carrum\, Victoria\, 3197\, Austral
 ia
END:VEVENT
END:VCALENDAR
