BEGIN:VCALENDAR
VERSION:2.0
PRODID:-//Squarespace Inc/Squarespace 6//v6//EN
BEGIN:VEVENT
UID:55a1e01ae4b0bdc9ce0db3df@squarespace.com
DTSTAMP:20150908T045049Z
DTSTART:20150910T003000Z
DTEND:20150910T053000Z
SUMMARY:EMOTIONAL WELLBEING & RESILIENCE TRAINING FOR PEOPLE LIVING WITH CA
 NCER
GEO:-38.076238;145.122421
LOCATION:Beach Lane\, 642 Nepean Hwy\, Carrum\, Australia
END:VEVENT
END:VCALENDAR
